BEGIN:VCALENDAR
VERSION:2.0
PRODID:icalendar-ruby
CALSCALE:GREGORIAN
METHOD:PUBLISH
BEGIN:VEVENT
DTSTAMP:20260425T150813Z
UID:37-231891@theanchor.tithelysetup5.com
DTSTART:20260502T183000Z
DTEND:20260502T203000Z
CLASS:PUBLIC
CREATED:20260424T111652
DESCRIPTION:Join us for a time of creating vision boards—reflect on what 
 you want to bloom in your near future\, and bring it to life on your board
 .\n**Bring a snack to share\, if you'd like. 
LAST-MODIFIED:20260424T111652
LOCATION:The Anchor Fellowship
SUMMARY:Women’s Gathering
URL;VALUE=URI:https://www.theanchorfellowship.com/events/women-s-gathering-
 -37/2026-05-02
END:VEVENT
END:VCALENDAR
