BEGIN:VCALENDAR
VERSION:2.0
PRODID:icalendar-ruby
CALSCALE:GREGORIAN
METHOD:PUBLISH
BEGIN:VEVENT
DTSTAMP:20260424T100642Z
UID:34-222023@theanchor.tithelysetup5.com
DTSTART:20260524T003000Z
DTEND:20260524T023000Z
CLASS:PUBLIC
CREATED:20260311T074738
DESCRIPTION:NSC Soccer Game Night \nJoin us for an NSC soccer game on Satur
 day\, May 23rd at 7:30 PM!\n\nCost: $25 per person\nTickets: Please purcha
 se your tickets through Tithely. You will see a tab marked “Nashville So
 ccer Game” where you can complete your purchase and secure your spot. Pa
 y Here\n(Please note the link will not show up on the app. I am working on
  that so please use the link on the webpage or use the tithely giving tab 
 through the app.) \nChildren: Ages 2 and under are free and do not requir
 e a ticket.\n\nCome join us for a family-friendly\, fun event as our commu
 nity gathers to enjoy a great night of soccer together! It’s a perfect c
 hance to connect\, cheer on the team\, and spend time together.\n\nWe hope
  to see you there!
LAST-MODIFIED:20260311T074738
LOCATION:501 Benton Ave\, Nashville\, TN 37203
SUMMARY:Nashville Soccer Game (NSC)
URL;VALUE=URI:https://www.theanchorfellowship.com/events/nashville-soccer-g
 ame-nsc/2026-05-23
ATTACH;FILENAME=NSC-Logo.jpeg;FMTTYPE=image/jpeg:https://dq5pwpg1q8ru0.clou
 dfront.net/2026/03/11/00/37/54/98971449-fd95-4c38-bbe8-de31af0907cd/NSC-Lo
 go.jpeg
END:VEVENT
END:VCALENDAR
