BEGIN:VCALENDAR
VERSION:2.0
PRODID:icalendar-ruby
CALSCALE:GREGORIAN
METHOD:PUBLISH
BEGIN:VEVENT
DTSTAMP:20260424T101022Z
UID:32-221561@theanchor.tithelysetup5.com
DTSTART:20260708T000000Z
DTEND:20260708T020000Z
CLASS:PUBLIC
CREATED:20260309T100003
DESCRIPTION:Mom’s Night Out\nTake a break\, slow down\, and connect with 
 other moms this summer at our Mom’s Night Out Dinners! While our kids a
 re enjoying their summer break\, this is a great opportunity for us to ste
 p away from the busy routines and spend time encouraging and supporting on
 e another.\nThroughout the summer\, we’ll be meeting at different Mexic
 an restaurants around the city\, giving everyone a chance to relax\, enjoy
  good food\, and build meaningful connections with other moms in our commu
 nity.\nDinner begins at 7:00 PM\, but please don’t worry if you can’t
  arrive right at the start time. Feel free to come whenever it works best
  for you—we would still love to see you! Whether you stay for a few minu
 tes or the whole evening\, you are welcome.\nLet’s take this time to la
 ugh\, connect\, and build each other up as moms. We hope you’ll join us 
 for a fun and refreshing night out!
LAST-MODIFIED:20260309T100003
LOCATION:TBD
SUMMARY:Mom's Night Out
URL;VALUE=URI:https://www.theanchorfellowship.com/events/moms-night-out--32
 /2026-07-07
ATTACH;FILENAME=hoi-an-and-da-nang-photographer-UlOsoZP0WWs-unsplash.jpg;FM
 TTYPE=image/jpeg:https://dq5pwpg1q8ru0.cloudfront.net/2026/03/09/14/58/31/
 78919c67-8e73-4056-8202-006b7bdfde32/hoi-an-and-da-nang-photographer-UlOso
 ZP0WWs-unsplash.jpg
END:VEVENT
END:VCALENDAR
