BEGIN:VCALENDAR
VERSION:2.0
PRODID:icalendar-ruby
CALSCALE:GREGORIAN
METHOD:PUBLISH
BEGIN:VEVENT
DTSTAMP:20260422T102854Z
UID:31-221559@theanchor.tithelysetup5.com
DTSTART:20260610T000000Z
DTEND:20260610T020000Z
CLASS:PUBLIC
CREATED:20260309T095549
DESCRIPTION:Mom’s Night Out \nTake a break\, slow down\, and connect wit
 h other moms this summer at our Mom’s Night Out Dinners! While our kids
  are enjoying their summer break\, this is a great opportunity for us to s
 tep away from the busy routines and spend time encouraging and supporting 
 one another.\nThroughout the summer\, we’ll be meeting at different Mex
 ican restaurants around the city\, giving everyone a chance to relax\, enj
 oy good food\, and build meaningful connections with other moms in our com
 munity.\nDinner begins at 7:00 PM\, but please don’t worry if you can
 ’t arrive right at the start time. Feel free to come whenever it works 
 best for you—we would still love to see you! Whether you stay for a few 
 minutes or the whole evening\, you are welcome.\nLet’s take this time to
  laugh\, connect\, and build each other up as moms. We hope you’ll join
  us for a fun and refreshing night out!
LAST-MODIFIED:20260309T095549
LOCATION:TBD
SUMMARY:Mom's Night Out
URL;VALUE=URI:https://www.theanchorfellowship.com/events/moms-night-out--31
 /2026-06-09
ATTACH;FILENAME=hoi-an-and-da-nang-photographer-UlOsoZP0WWs-unsplash.jpg;FM
 TTYPE=image/jpeg:https://dq5pwpg1q8ru0.cloudfront.net/2026/03/09/14/55/49/
 8dc47e75-528d-4fcc-86ba-310e515e1ab5/hoi-an-and-da-nang-photographer-UlOso
 ZP0WWs-unsplash.jpg
END:VEVENT
END:VCALENDAR
